BEGIN:VCALENDAR
VERSION:2.0
PRODID:-//UIL Emilia Romagna - ECPv6.10.2//NONSGML v1.0//EN
CALSCALE:GREGORIAN
METHOD:PUBLISH
X-WR-CALNAME:UIL Emilia Romagna
X-ORIGINAL-URL:https://www.uilemiliaromagna.net
X-WR-CALDESC:Eventi per UIL Emilia Romagna
REFRESH-INTERVAL;VALUE=DURATION:PT1H
X-Robots-Tag:noindex
X-PUBLISHED-TTL:PT1H
BEGIN:VTIMEZONE
TZID:Europe/Rome
BEGIN:DAYLIGHT
TZOFFSETFROM:+0100
TZOFFSETTO:+0200
TZNAME:CEST
DTSTART:20190331T010000
END:DAYLIGHT
BEGIN:STANDARD
TZOFFSETFROM:+0200
TZOFFSETTO:+0100
TZNAME:CET
DTSTART:20191027T010000
END:STANDARD
END:VTIMEZONE
BEGIN:VEVENT
DTSTART;TZID=Europe/Rome:20190716T093000
DTEND;TZID=Europe/Rome:20190716T103000
DTSTAMP:20260421T122438
CREATED:20190710T091426Z
LAST-MODIFIED:20190710T091436Z
UID:7070-1563269400-1563273000@www.uilemiliaromagna.net
SUMMARY:Rinaldi (Uil ER) su Ciao Radio
DESCRIPTION:Con il segretario organizzativo Uil ER\, Roberto Rinaldi\, dalle 9.30\, la Uil Emilia Romagna sarà in diretta sulle frequenze di Ciao Radio (93.250 Fm) per la rassegna stampa mattutina
URL:https://www.uilemiliaromagna.net/event/rinaldi-uil-er-su-ciao-radio/
ATTACH;FMTTYPE=image/jpeg:https://www.uilemiliaromagna.net/wp-content/uploads/2018/06/roberto_rinaldi.jpg
END:VEVENT
BEGIN:VEVENT
DTSTART;TZID=Europe/Rome:20190705T093000
DTEND;TZID=Europe/Rome:20190705T133000
DTSTAMP:20260421T122438
CREATED:20190620T085625Z
LAST-MODIFIED:20190620T085635Z
UID:6922-1562319000-1562333400@www.uilemiliaromagna.net
SUMMARY:Uil ER: convegno 5 luglio 'Legalità e diritti dei lavoratori negli appalti
DESCRIPTION:
URL:https://www.uilemiliaromagna.net/event/uil-er-convegno-5-luglio-legalita-e-diritti-dei-lavoratori-negli-appalti/
ATTACH;FMTTYPE=image/jpeg:https://www.uilemiliaromagna.net/wp-content/uploads/2019/06/interporto-area.jpg
END:VEVENT
BEGIN:VEVENT
DTSTART;TZID=Europe/Rome:20190627T190000
DTEND;TZID=Europe/Rome:20190627T233000
DTSTAMP:20260421T122438
CREATED:20190628T074753Z
LAST-MODIFIED:20190628T074753Z
UID:6983-1561662000-1561678200@www.uilemiliaromagna.net
SUMMARY:Bologna\, la Uil ER al presidio per la Sea Watch
DESCRIPTION:
URL:https://www.uilemiliaromagna.net/event/bologna-la-uil-er-al-presidio-per-la-sea-watch/
ATTACH;FMTTYPE=image/jpeg:https://www.uilemiliaromagna.net/wp-content/uploads/2018/02/logo_uiler.jpg
END:VEVENT
BEGIN:VEVENT
DTSTART;TZID=Europe/Rome:20190619T090000
DTEND;TZID=Europe/Rome:20190619T173000
DTSTAMP:20260421T122438
CREATED:20190607T082650Z
LAST-MODIFIED:20190610T084522Z
UID:6797-1560934800-1560965400@www.uilemiliaromagna.net
SUMMARY:Privacy: convegno 19 giugno 2019 - Bologna
DESCRIPTION:
URL:https://www.uilemiliaromagna.net/event/privacy-convegno-19-giuno-2019-bologna/
ATTACH;FMTTYPE=image/png:https://www.uilemiliaromagna.net/wp-content/uploads/2019/06/privacy.png
END:VEVENT
BEGIN:VEVENT
DTSTART;TZID=Europe/Rome:20190618T093000
DTEND;TZID=Europe/Rome:20190618T100000
DTSTAMP:20260421T122438
CREATED:20190610T084813Z
LAST-MODIFIED:20190617T080449Z
UID:6832-1560850200-1560852000@www.uilemiliaromagna.net
SUMMARY:Uil ER in onda su Ciao Radio
DESCRIPTION:Con Carmelo Massari\, oggi\, la Uil Emilia Romagna in diretta dalle 9\,30 sulle frequenze di Ciao Radio (93.250 Fm) per la rassegna stampa mattutina \n 
URL:https://www.uilemiliaromagna.net/event/uil-er-in-onda-su-ciao-radio/
ATTACH;FMTTYPE=image/jpeg:https://www.uilemiliaromagna.net/wp-content/uploads/2019/06/massari.jpg
END:VEVENT
BEGIN:VEVENT
DTSTART;TZID=Europe/Rome:20190608T090000
DTEND;TZID=Europe/Rome:20190608T130000
DTSTAMP:20260421T122438
CREATED:20190527T080840Z
LAST-MODIFIED:20190527T080840Z
UID:6676-1559984400-1559998800@www.uilemiliaromagna.net
SUMMARY:Uilpa-Uil Fpl: 8 giugno\, manifestazione a Roma
DESCRIPTION:
URL:https://www.uilemiliaromagna.net/event/uilpa-uil-fpl-8-giugno-manifestazione-a-roma/
ATTACH;FMTTYPE=image/jpeg:https://www.uilemiliaromagna.net/wp-content/uploads/2019/05/pubblico-impiego.jpg
END:VEVENT
BEGIN:VEVENT
DTSTART;TZID=Europe/Rome:20190607T080000
DTEND;TZID=Europe/Rome:20190607T170000
DTSTAMP:20260421T122438
CREATED:20190607T083114Z
LAST-MODIFIED:20190607T083114Z
UID:6801-1559894400-1559926800@www.uilemiliaromagna.net
SUMMARY:Mercatone Uno\, presidio 7 giugno 2019 - Bologna
DESCRIPTION:Filcams Bologna e Imola\, Fisascat Area Metropolitana bolognese e Uiltucs Uil\, venerdì 7 giugno dalle  14\, terranno un presidio in piazza Roosevelt a Bologna con i lavoratori di Mercatone Uno di Bologna\, Imola e San Giorgio di Piano
URL:https://www.uilemiliaromagna.net/event/mercatone-uno-presidio-7-giugno-2019-bologna/
ATTACH;FMTTYPE=image/jpeg:https://www.uilemiliaromagna.net/wp-content/uploads/2019/04/mercatone-uno.jpg
END:VEVENT
BEGIN:VEVENT
DTSTART;TZID=Europe/Rome:20190601T093000
DTEND;TZID=Europe/Rome:20190601T133000
DTSTAMP:20260421T122438
CREATED:20190528T090642Z
LAST-MODIFIED:20190528T090642Z
UID:6697-1559381400-1559395800@www.uilemiliaromagna.net
SUMMARY:Uil Pensionati: 1 giugno manifestazione a Roma
DESCRIPTION:Download (PDF\, 120KB)
URL:https://www.uilemiliaromagna.net/event/uil-pensionati-1-giugno-manifestazione-a-roma/
ATTACH;FMTTYPE=image/jpeg:https://www.uilemiliaromagna.net/wp-content/uploads/2019/05/copertina_1giugno.jpg
END:VEVENT
BEGIN:VEVENT
DTSTART;TZID=Europe/Rome:20190528T090000
DTEND;TZID=Europe/Rome:20190528T140000
DTSTAMP:20260421T122438
CREATED:20190524T080126Z
LAST-MODIFIED:20190524T080126Z
UID:6669-1559034000-1559052000@www.uilemiliaromagna.net
SUMMARY:Cgil-Cisl-Uil: presidio a Roma - 28 maggio
DESCRIPTION:
URL:https://www.uilemiliaromagna.net/event/cgil-cisl-uil-presidio-a-roma-28-maggio/
ATTACH;FMTTYPE=image/png:https://www.uilemiliaromagna.net/wp-content/uploads/2019/05/sblocca-niente.png
END:VEVENT
BEGIN:VEVENT
DTSTART;TZID=Europe/Rome:20190513T080000
DTEND;TZID=Europe/Rome:20190513T170000
DTSTAMP:20260421T122438
CREATED:20190513T081452Z
LAST-MODIFIED:20190513T081534Z
UID:6546-1557734400-1557766800@www.uilemiliaromagna.net
SUMMARY:Uiltec (ER): #girolevitespezzate - 14 maggio - ore 10 - Bologna
DESCRIPTION:#girolevitespezzate \n“L’importanza della cultura della prevenzione” \n  \nMartedì 14 maggio 2019\, alle 10\, farà tappa a Bologna\, nella sede della Uil Emilia Romagna (via Serena 2/2)  #girolevitespezzate\, il tour in bicicletta organizzato dalla Uiltec per sensibilizzare alla sicurezza sui luoghi di lavoro. \nPartito da Ogliastro Cilento (Sa) il 28 aprile 2019\, giornata mondiale della Sicurezza sul Lavoro\,  il tour percorrerà 1000 km toccando  alcune delle città italiane dove nel 2018 si sono verificati infortuni mortali sul lavoro. Tappa finale: 17 maggio a Milano. \nBiker di questa avventura: Domenico Nese\, 46 anni\, geometra che lavora in un’azienda  come responsabile del Servizio di Prevenzione e Protezione ed è anche vicesindaco al Comune di Ogliastro Cilento (SA)\, paese in cui vive.  \nPROGRAMMA \nOre 10  –  Partenza della tappa bolognese di Domenico Nese #girolevitespezzate \nOre 10.30 –  Convegno “L’importanza della cultura della prevenzione” \nIntervengono:  \n\nVittorio Caleffi\, della segreteria Uiltec Emilia Romagna  \nMarco Lupi\, responsabile Salute Sicurezza Ambiente Uiltec \nAntonio Ceglia\, Uil confederale Responsabile Ambiente e Amianto \nGiuliano Zignani\, segretario generale Uil Emilia Romagna\n\n  \n 
URL:https://www.uilemiliaromagna.net/event/uiltec-er-girolevitespezzate-14-maggio-ore-10-bologna/
ATTACH;FMTTYPE=image/png:https://www.uilemiliaromagna.net/wp-content/uploads/2019/05/giro.png
END:VEVENT
BEGIN:VEVENT
DTSTART;TZID=Europe/Rome:20190501T080000
DTEND;TZID=Europe/Rome:20190501T233000
DTSTAMP:20260421T122438
CREATED:20190412T082916Z
LAST-MODIFIED:20190423T080346Z
UID:6268-1556697600-1556753400@www.uilemiliaromagna.net
SUMMARY:Primo Maggio: Bologna
DESCRIPTION:
URL:https://www.uilemiliaromagna.net/event/primo-maggio-bologna/
ATTACH;FMTTYPE=image/jpeg:https://www.uilemiliaromagna.net/wp-content/uploads/2019/04/primo-maggio-concerto.jpg
END:VEVENT
BEGIN:VEVENT
DTSTART;TZID=Europe/Rome:20190416T093000
DTEND;TZID=Europe/Rome:20190416T100000
DTSTAMP:20260421T122438
CREATED:20190415T083633Z
LAST-MODIFIED:20190415T083826Z
UID:6290-1555407000-1555408800@www.uilemiliaromagna.net
SUMMARY:Ciao Radio\, intervista Zignani
DESCRIPTION:Martedì 16 aprile 2019\, alle 9\,30\, intervista in diretta su Ciao Radio (93.250 Fm) del segretario generale Uil ER\, Giuliano Zignani per commentare i principali fatti di attualità
URL:https://www.uilemiliaromagna.net/event/ciao-radio-intervista-zignani/
ATTACH;FMTTYPE=image/jpeg:https://www.uilemiliaromagna.net/wp-content/uploads/2018/06/giuliano_zignani.jpg
END:VEVENT
BEGIN:VEVENT
DTSTART;TZID=Europe/Rome:20190412T093000
DTEND;TZID=Europe/Rome:20190412T110000
DTSTAMP:20260421T122438
CREATED:20190405T084830Z
LAST-MODIFIED:20190405T085055Z
UID:6207-1555061400-1555066800@www.uilemiliaromagna.net
SUMMARY:Fp-Cgil\, Cisl-Fp e Uil Fpl (Bo): Sanità privata\, due presidi
DESCRIPTION:Venerdì 12 aprile e lunedì 15 aprile Fp-Cgil\, Cisl-Fp e Uil Fpl (Bo) organizzano il secondo dei tre presidi in occasione della mobilitazione nazionale delle lavoratrici e dei lavoratori della Sanità privata\, per protestare contro il blocco del contratto nazionale di lavoro scaduto da ormai dodici anni. \n\nVenerdì 12 aprile 2019 presidio alla Casa di cura Toniolo – via Toscana 34\, Bologna dalle 9.30 alle 11 (Scarica qui il volantino)\nLunedì 15 aprile 2019 presidio a Villa Bellombra – via Bellombra 24\, Bologna dalle 9.30 alle 11 (Scarica qui il volantino)\n\n\nDownload (PDF\, 99KB)
URL:https://www.uilemiliaromagna.net/event/fp-cgil-cisl-fp-e-uil-fpl-bo-sanita-privata-due-presidi/
ATTACH;FMTTYPE=image/png:https://www.uilemiliaromagna.net/wp-content/uploads/2019/04/imago.png
END:VEVENT
BEGIN:VEVENT
DTSTART;TZID=Europe/Rome:20190412T080000
DTEND;TZID=Europe/Rome:20190412T170000
DTSTAMP:20260421T122438
CREATED:20190412T103422Z
LAST-MODIFIED:20190412T103422Z
UID:6279-1555056000-1555088400@www.uilemiliaromagna.net
SUMMARY:Tper: sciopero 13 aprile
DESCRIPTION:
URL:https://www.uilemiliaromagna.net/event/tper-sciopero-13-aprile/
ATTACH;FMTTYPE=image/jpeg:https://www.uilemiliaromagna.net/wp-content/uploads/2018/06/autobus-tper.jpg
END:VEVENT
BEGIN:VEVENT
DTSTART;TZID=Europe/Rome:20190408T093000
DTEND;TZID=Europe/Rome:20190408T110000
DTSTAMP:20260421T122438
CREATED:20190405T084440Z
LAST-MODIFIED:20190405T084646Z
UID:6204-1554715800-1554721200@www.uilemiliaromagna.net
SUMMARY:Fp-Cgil\, Cisl-Fp e Uil Fpl (Bo): Sanità privata\, tre presidi
DESCRIPTION:Lunedì 8 aprile\, venerdì 12 aprile e lunedì 15 aprile Fp-Cgil\, Cisl-Fp e Uil Fpl (Bo) organizzano  tre presidi in occasione della mobilitazione nazionale delle lavoratrici e dei lavoratori della Sanità privata\, per protestare contro il blocco del contratto nazionale di lavoro scaduto da ormai dodici anni. \n\nLunedì 8 aprile 2019 presidio a Villa Nigrisoli – viale Ercolani 9\, Bologna dalle 9.30 alle 11 (Scarica qui il volantino)\nVenerdì 12 aprile 2019 presidio alla Casa di cura Toniolo – via Toscana 34\, Bologna dalle 9.30 alle 11 (Scarica qui il volantino)\nLunedì 15 aprile 2019 presidio a Villa Bellombra – via Bellombra 24\, Bologna dalle 9.30 alle 11 (Scarica qui il volantino)\n\n\nDownload (PDF\, 99KB)
URL:https://www.uilemiliaromagna.net/event/fp-cgil-cisl-fp-e-uil-fpl-bo-sanita-privata-tre-presidi-sani/
ATTACH;FMTTYPE=image/png:https://www.uilemiliaromagna.net/wp-content/uploads/2019/04/imago.png
END:VEVENT
BEGIN:VEVENT
DTSTART;TZID=Europe/Rome:20190405T080000
DTEND;TZID=Europe/Rome:20190405T170000
DTSTAMP:20260421T122438
CREATED:20190405T085035Z
LAST-MODIFIED:20190405T085035Z
UID:6210-1554451200-1554483600@www.uilemiliaromagna.net
SUMMARY:Fp-Cgil\, Cisl-Fp e Uil Fpl (Bo): Sanità privata\, presidio
DESCRIPTION:Lunedì 15 aprile Fp-Cgil\, Cisl-Fp e Uil Fpl (Bo) organizzano l’ultimo dei tre presidi in occasione della mobilitazione nazionale delle lavoratrici e dei lavoratori della Sanità privata\, per protestare contro il blocco del contratto nazionale di lavoro scaduto da ormai dodici anni. \n\nLunedì 15 aprile 2019 presidio a Villa Bellombra – via Bellombra 24\, Bologna dalle 9.30 alle 11 (Scarica qui il volantino)\n\n\nDownload (PDF\, 98KB)
URL:https://www.uilemiliaromagna.net/event/fp-cgil-cisl-fp-e-uil-fpl-bo-sanita-privata-presidio/
ATTACH;FMTTYPE=image/png:https://www.uilemiliaromagna.net/wp-content/uploads/2019/04/imago.png
END:VEVENT
BEGIN:VEVENT
DTSTART;TZID=Europe/Rome:20190329T160000
DTEND;TZID=Europe/Rome:20190329T170000
DTSTAMP:20260421T122438
CREATED:20190328T094827Z
LAST-MODIFIED:20190328T094827Z
UID:6046-1553875200-1553878800@www.uilemiliaromagna.net
SUMMARY:Uil ER: inagurazione nuova sede a Cento (Fe)
DESCRIPTION:Venerdì 29 marzo 2019\, alle 16\, inaugurazione della nuova sede della Uil a Cento (via Ugo Bassi\, 51 – Cento). A tagliare il nastro\, il segretario generale aggiunto Uil\, Pierpaolo Bombardieri\, il segretario generale Uil Emilia Romagna\, Giuliano Zignani e il segretario territoriale Uil Ferrara\, Massimo Zanirato. Partecipa anche il sindaco di Cento\, Fabrizio Toselli. \n 
URL:https://www.uilemiliaromagna.net/event/uil-er-inagurazione-nuova-sede-a-cento-fe/
ATTACH;FMTTYPE=image/jpeg:https://www.uilemiliaromagna.net/wp-content/uploads/2018/12/logouil-MIO.jpg
END:VEVENT
BEGIN:VEVENT
DTSTART;TZID=Europe/Rome:20190329T100000
DTEND;TZID=Europe/Rome:20190329T130000
DTSTAMP:20260421T122438
CREATED:20190319T095925Z
LAST-MODIFIED:20190319T095926Z
UID:5985-1553853600-1553864400@www.uilemiliaromagna.net
SUMMARY:Europa: 29 marzo 2019 - convegno con Bombardieri
DESCRIPTION:
URL:https://www.uilemiliaromagna.net/event/europa-29-marzo-2019-convegno-con-bombardieri/
ATTACH;FMTTYPE=image/jpeg:https://www.uilemiliaromagna.net/wp-content/uploads/2019/02/DSC_6467.jpg
END:VEVENT
BEGIN:VEVENT
DTSTART;TZID=Europe/Rome:20190325T103000
DTEND;TZID=Europe/Rome:20190325T150000
DTSTAMP:20260421T122438
CREATED:20190319T095716Z
LAST-MODIFIED:20190319T095718Z
UID:5979-1553509800-1553526000@www.uilemiliaromagna.net
SUMMARY:Uiltrasporti: 25 marzo - doppio presidio a Bologna
DESCRIPTION:
URL:https://www.uilemiliaromagna.net/event/uiltrasporti-25-marzo-doppio-presidio-a-bologna/
ATTACH;FMTTYPE=image/png:https://www.uilemiliaromagna.net/wp-content/uploads/2019/03/a.png
END:VEVENT
BEGIN:VEVENT
DTSTART;TZID=Europe/Rome:20190324T120000
DTEND;TZID=Europe/Rome:20190324T160000
DTSTAMP:20260421T122438
CREATED:20190319T095536Z
LAST-MODIFIED:20190319T095719Z
UID:5978-1553428800-1553443200@www.uilemiliaromagna.net
SUMMARY:Uiltrasporti (Bo): Tpb-Tper\, sciopero 24 marzo
DESCRIPTION:
URL:https://www.uilemiliaromagna.net/event/uiltrasporti-bo-tpb-tper-sciopero-24-marzo/
ATTACH;FMTTYPE=image/jpeg:https://www.uilemiliaromagna.net/wp-content/uploads/2018/06/autobus-tper.jpg
END:VEVENT
BEGIN:VEVENT
DTSTART;TZID=Europe/Rome:20190321T090000
DTEND;TZID=Europe/Rome:20190321T140000
DTSTAMP:20260421T122438
CREATED:20190305T090224Z
LAST-MODIFIED:20190305T090250Z
UID:5830-1553158800-1553176800@www.uilemiliaromagna.net
SUMMARY:XXIV giornata in ricordo delle vittime di mafia: 21 marzo - Ravenna
DESCRIPTION:
URL:https://www.uilemiliaromagna.net/event/xxiv-giornata-in-ricordo-delle-vittime-di-mafia-21-marzo-ravenna/
ATTACH;FMTTYPE=image/jpeg:https://www.uilemiliaromagna.net/wp-content/uploads/2019/03/logo-libera.jpg
END:VEVENT
BEGIN:VEVENT
DTSTART;TZID=Europe/Rome:20190315T100000
DTEND;TZID=Europe/Rome:20190315T130000
DTSTAMP:20260421T122438
CREATED:20190226T114037Z
LAST-MODIFIED:20190226T114056Z
UID:5775-1552644000-1552654800@www.uilemiliaromagna.net
SUMMARY:Donne e lavoro: tavola rotonda 15 marzo
DESCRIPTION:
URL:https://www.uilemiliaromagna.net/event/donne-e-lavoro-tavola-rotonda-15-marzo/
ATTACH;FMTTYPE=image/jpeg:https://www.uilemiliaromagna.net/wp-content/uploads/2018/06/coordinamento_pari_opportunita.jpg
END:VEVENT
BEGIN:VEVENT
DTSTART;TZID=Europe/Rome:20190311T110000
DTEND;TZID=Europe/Rome:20190311T130000
DTSTAMP:20260421T122438
CREATED:20190305T090708Z
LAST-MODIFIED:20190305T090708Z
UID:5834-1552302000-1552309200@www.uilemiliaromagna.net
SUMMARY:Giornata internazionale della donna: 11 marzo - assemblea a Conserve Italia
DESCRIPTION:
URL:https://www.uilemiliaromagna.net/event/giornata-internazionale-della-donna-11-marzo-assemblea-a-conserve-italia/
ATTACH;FMTTYPE=image/png:https://www.uilemiliaromagna.net/wp-content/uploads/2019/03/donne-immago.png
END:VEVENT
BEGIN:VEVENT
DTSTART;TZID=Europe/Rome:20190311T090000
DTEND;TZID=Europe/Rome:20190311T133000
DTSTAMP:20260421T122438
CREATED:20190301T091421Z
LAST-MODIFIED:20190301T115514Z
UID:5785-1552294800-1552311000@www.uilemiliaromagna.net
SUMMARY:Barbagallo: Bologna\, 11 marzo #Sosinfrastrutture
DESCRIPTION:
URL:https://www.uilemiliaromagna.net/event/barbagallo-bologna-11-marzo-sosinfrastrutture/
ATTACH;FMTTYPE=image/jpeg:https://www.uilemiliaromagna.net/wp-content/uploads/2019/02/DSC_6334.jpg
END:VEVENT
BEGIN:VEVENT
DTSTART;TZID=Europe/Rome:20190309T100000
DTEND;TZID=Europe/Rome:20190309T130000
DTSTAMP:20260421T122438
CREATED:20190304T101939Z
LAST-MODIFIED:20190304T102012Z
UID:5825-1552125600-1552136400@www.uilemiliaromagna.net
SUMMARY:Infrastrutture 9 marzo: interviene Zignani (Uil ER)
DESCRIPTION:
URL:https://www.uilemiliaromagna.net/event/infrastrutture-9-marzo-interviene-zignani-uil-er/
ATTACH;FMTTYPE=image/png:https://www.uilemiliaromagna.net/wp-content/uploads/2019/03/infr.png
END:VEVENT
BEGIN:VEVENT
DTSTART;TZID=Europe/Rome:20190305T083000
DTEND;TZID=Europe/Rome:20190305T090000
DTSTAMP:20260421T122438
CREATED:20190301T115344Z
LAST-MODIFIED:20190301T121121Z
UID:5811-1551774600-1551776400@www.uilemiliaromagna.net
SUMMARY:Zignani\, 5 marzo a Punto Radio
DESCRIPTION:Martedì 5 marzo 2019\, alle 8.30\, il segretario generale Uil Emilia Romagna\, Giuliano Zignani sarà in diretta dai microfoni di Punto Radio (105 Fm; canale 196 digitale terrestre) sul tema delle infrastrutture
URL:https://www.uilemiliaromagna.net/event/zignani-5-marzo-a-punto-radio/
ATTACH;FMTTYPE=image/png:https://www.uilemiliaromagna.net/wp-content/uploads/2018/06/puntoradio.png
END:VEVENT
BEGIN:VEVENT
DTSTART;TZID=Europe/Rome:20190304T130000
DTEND;TZID=Europe/Rome:20190311T130000
DTSTAMP:20260421T122438
CREATED:20190301T122429Z
LAST-MODIFIED:20190301T122429Z
UID:5819-1551704400-1552309200@www.uilemiliaromagna.net
SUMMARY:Premio Tina Anselmi: 4-11 marzo 2018
DESCRIPTION:Download (PDF\, 3.89MB)
URL:https://www.uilemiliaromagna.net/event/premio-tina-anselmi-4-11-marzo-2018/
END:VEVENT
BEGIN:VEVENT
DTSTART;TZID=Europe/Rome:20190301T100000
DTEND;TZID=Europe/Rome:20190301T140000
DTSTAMP:20260421T122438
CREATED:20190218T094128Z
LAST-MODIFIED:20190225T093840Z
UID:5632-1551434400-1551448800@www.uilemiliaromagna.net
SUMMARY:Uiltec: convegno energia a Ravenna\, 1 marzo
DESCRIPTION:
URL:https://www.uilemiliaromagna.net/event/uiltec-convegno-energia-a-ravenna-1-marzo/
ATTACH;FMTTYPE=image/jpeg:https://www.uilemiliaromagna.net/wp-content/uploads/2018/12/bandiera-uiltec.jpg
END:VEVENT
BEGIN:VEVENT
DTSTART;TZID=Europe/Rome:20190226T093000
DTEND;TZID=Europe/Rome:20190226T100000
DTSTAMP:20260421T122438
CREATED:20190225T101616Z
LAST-MODIFIED:20190225T101616Z
UID:5771-1551173400-1551175200@www.uilemiliaromagna.net
SUMMARY:Uil ER in onda su Ciao Radio martedì 26
DESCRIPTION:Martedì 26 febbraio 2019\, alle 9.30\, Carmelo Massari della Uil Emilia Romagna sarà in diretta dai microfoni di Ciao Radio (93.250 Fm) per illustrare la piattaforma unitaria che ha portato alla manifestazione nazionale del 9 febbraio
URL:https://www.uilemiliaromagna.net/event/uil-er-in-onda-su-ciao-radio-martedi-26/
ATTACH;FMTTYPE=image/jpeg:https://www.uilemiliaromagna.net/wp-content/uploads/2019/01/ciao-radio.jpg
END:VEVENT
BEGIN:VEVENT
DTSTART;TZID=Europe/Rome:20190222T093000
DTEND;TZID=Europe/Rome:20190222T210000
DTSTAMP:20260421T122438
CREATED:20190218T093719Z
LAST-MODIFIED:20190218T093719Z
UID:5629-1550827800-1550869200@www.uilemiliaromagna.net
SUMMARY:Go beyond: tappa bolognese\, venerdì 22
DESCRIPTION:GO Beyond: tappa bolognese del contest della UIL che\, sull’onda del tema “Democrazia Cultura Coesione Partecipazione”\, mira ad aiutare i giovani a interpretare il cambiamento attraverso percorsi di cittadinanza attiva e consapevole. \n 
URL:https://www.uilemiliaromagna.net/event/go-beyond-tappa-bolognese-venerdi-22/
ATTACH;FMTTYPE=image/png:https://www.uilemiliaromagna.net/wp-content/uploads/2018/11/go-beyondbis.png
END:VEVENT
END:VCALENDAR