BEGIN:VCALENDAR
VERSION:2.0
PRODID:-//UIL Emilia Romagna - ECPv6.10.2//NONSGML v1.0//EN
CALSCALE:GREGORIAN
METHOD:PUBLISH
X-ORIGINAL-URL:https://www.uilemiliaromagna.net
X-WR-CALDESC:Eventi per UIL Emilia Romagna
REFRESH-INTERVAL;VALUE=DURATION:PT1H
X-Robots-Tag:noindex
X-PUBLISHED-TTL:PT1H
BEGIN:VTIMEZONE
TZID:Europe/Rome
BEGIN:DAYLIGHT
TZOFFSETFROM:+0100
TZOFFSETTO:+0200
TZNAME:CEST
DTSTART:20180325T010000
END:DAYLIGHT
BEGIN:STANDARD
TZOFFSETFROM:+0200
TZOFFSETTO:+0100
TZNAME:CET
DTSTART:20181028T010000
END:STANDARD
END:VTIMEZONE
BEGIN:VEVENT
DTSTART;TZID=Europe/Rome:20181123T080000
DTEND;TZID=Europe/Rome:20181123T170000
DTSTAMP:20260421T200153
CREATED:20181123T091734Z
LAST-MODIFIED:20181123T091835Z
UID:4986-1542960000-1542992400@www.uilemiliaromagna.net
SUMMARY:Morolli (Uil ER): convegno contro le molestie a Modena
DESCRIPTION:La formazione per sconfiggere le molestie e la violenza: convegno a Modena (Camera di Commercio via Ganaceto\, 134) in programma lunedì 26 alle 15.\n\n\nPer la Uil ER interviene Giuseppina Morolli\, segretaria confederale Uil ER
URL:https://www.uilemiliaromagna.net/event/morolli-uil-er-convegno-contro-le-molestie-a-modena/
ATTACH;FMTTYPE=image/png:https://www.uilemiliaromagna.net/wp-content/uploads/2018/11/morollic-opia.png
END:VEVENT
BEGIN:VEVENT
DTSTART;TZID=Europe/Rome:20181122T204500
DTEND;TZID=Europe/Rome:20181122T223000
DTSTAMP:20260421T200153
CREATED:20181029T114347Z
LAST-MODIFIED:20181122T092243Z
UID:4777-1542919500-1542925800@www.uilemiliaromagna.net
SUMMARY:Granarolo\, 22 novembre: Rinaldi (Uil ER) a dibattito su leggi razziali
DESCRIPTION:Giovedì 22 Novembre 2018\, alle  20\,45\, nella sala Florida (via San Donato 203) a Granarolo dell’Emilia\, il segretario organizzativo della Uil ER e Bo\, Roberto Rinaldi interviene all”incontro su ‘Dalle leggi razziali all’articolo 3 della Costituzione al nuovo regolamento comunali e per l’utilizzo degli spazi pubblici’. \n 
URL:https://www.uilemiliaromagna.net/event/granarolo-22-novembre-rinaldi-uil-er-partecipa-a-dibattito-su-leggi-razziali/
LOCATION:granarolo dell’emilia
ATTACH;FMTTYPE=image/jpeg:https://www.uilemiliaromagna.net/wp-content/uploads/2018/06/roberto_rinaldi.jpg
END:VEVENT
BEGIN:VEVENT
DTSTART;TZID=Europe/Rome:20181120T170000
DTEND;TZID=Europe/Rome:20181120T200000
DTSTAMP:20260421T200153
CREATED:20181116T094300Z
LAST-MODIFIED:20181119T094706Z
UID:4900-1542733200-1542744000@www.uilemiliaromagna.net
SUMMARY:Uil ER - Feneal Uil: convegno su Infrastrutture - 20 Novembre 2018
DESCRIPTION:Martedì 20 novembre 2018\, alle 17\, nella sede della Uil Emilia Romagna (via Serena 2/2 – Bologna) si tiene il convegno ‘Infrastrutture\, Sviluppo e Lavoro’. Ad organizzare l’appuntamento sono la Uil Emilia Romagna e la Feneal Uil Emilia Romagna. \nPROGRAMMA \nApre i lavori: Riccardo Galasso\, segretario generale Feneal Uil Emilia Romagna \nIntervengono: \n\nStefano Bonaccini\, presidente Regione Emilia-Romagna\nGiuliano Zignani\, segretario generale Uil Emilia Romagna e Bologna\nVito Panzarella\, segretario generale Feneal Uil\nStefano Betti\, presidente Ance Emilia Romagna\nRiccardo Roccati\, portavoce Cna Edilizia Emilia Romagna\nIgor Skuk in rappresentanza dell’Alleanza delle Cooperative italiane\n\nCoordina: Carlo Rivetti\, segretario organizzativo Feneal Uil Emilia Romagna \n 
URL:https://www.uilemiliaromagna.net/event/uil-er-feneal-uil-convegno-su-infrastrutture-20-novembre-2018/
ATTACH;FMTTYPE=image/jpeg:https://www.uilemiliaromagna.net/wp-content/uploads/2018/01/logo_FenealUIL.jpg
END:VEVENT
BEGIN:VEVENT
DTSTART;TZID=Europe/Rome:20181116T093000
DTEND;TZID=Europe/Rome:20181116T130000
DTSTAMP:20260421T200153
CREATED:20181112T093714Z
LAST-MODIFIED:20181114T092250Z
UID:4832-1542360600-1542373200@www.uilemiliaromagna.net
SUMMARY:Comunicazione di genere: seminario venerdì 16 novembre
DESCRIPTION:“Parole Pari” è un seminario sulla comunicazione di genere\, sul linguaggio non sessista e non discriminatorio in programma venerdì 16 novembre 2018 dalle 9.30 alle 12.30 (Palazzo Malvezzi\, Sala dello Zodiaco via Zamboni 13 – Bologna). \nUn incontro su una comunicazione istituzionale attenta ai temi della parità di genere e del contrasto a stereotipi e discriminazioni\, promosso dalla Città metropolitana di Bologna in collaborazione con la Regione Emilia-Romagna e le organizzazioni sindacali e con il coinvolgimento degli organi di informazione. Il seminario si pone l’obiettivo di stimolare una riflessione sul tema\, definendo i punti di una possibile azione comune da sviluppare già dal 2019. \nProgramma:  \nSaluti di apertura \n\nGiuseppe De Biasi\, capo di Gabinetto\, Città metropolitana di Bologna\nEmma Petitti\, assessora al bilancio\, riordino istituzionale\, risorse umane e pari opportunità\, Regione Emilia-Romagna\n\nInterventi \n\nGiovanna Cosenza\, professoressa Dipartimento di Filosofia e Comunicazione\, Università di Bologna\nStefano Cuppi\, presidente del Corecom Emilia-Romagna\nMichelangelo Bucci\, consigliere dell’Ordine dei giornalisti\nAntonella Cardone\, giornalista Associazione Giulia\nAnna Salfi\, referente Cgil\nMarzia Montebugnoli\, referente Cisl\nGiuseppina Morelli\,referente Uil\n\nConclusioni \n\nElisabetta Scalambra\, Consigliera delegata alle Pari opportunita della Città metropolitana di Bologna
URL:https://www.uilemiliaromagna.net/event/comunicazione-di-genere-seminario-venerdi-16-novembre/
ATTACH;FMTTYPE=image/jpeg:https://www.uilemiliaromagna.net/wp-content/uploads/2018/06/coordinamento_pari_opportunita.jpg
END:VEVENT
BEGIN:VEVENT
DTSTART;TZID=Europe/Rome:20181115T183000
DTEND;TZID=Europe/Rome:20181115T203000
DTSTAMP:20260421T200153
CREATED:20181108T100739Z
LAST-MODIFIED:20181108T100754Z
UID:4827-1542306600-1542313800@www.uilemiliaromagna.net
SUMMARY:Uiltrasporti ER: incontro con il gen. Mori
DESCRIPTION:
URL:https://www.uilemiliaromagna.net/event/uiltrasporti-incontro-con-il-gen-mori/
ATTACH;FMTTYPE=image/jpeg:https://www.uilemiliaromagna.net/wp-content/uploads/2018/01/logo_UILTRASPORTI.jpg
END:VEVENT
BEGIN:VEVENT
DTSTART;TZID=Europe/Rome:20181106T083000
DTEND;TZID=Europe/Rome:20181106T093000
DTSTAMP:20260421T200153
CREATED:20181029T113832Z
LAST-MODIFIED:20181029T113832Z
UID:4775-1541493000-1541496600@www.uilemiliaromagna.net
SUMMARY:Punto Radio\, 6 novembre 2018: Carmelo Massari (Uil ER) in diretta
DESCRIPTION:Martedì 6 novembre 2018\, alle 8.30\, Carmelo Massari della Uil Emilia Romagna sarà in diretta su Punto Radio nel programma Una finestra su Bologna.
URL:https://www.uilemiliaromagna.net/event/punto-radio-6-novembre-2018-carmelo-massari-uil-er-in-diretta/
ATTACH;FMTTYPE=image/png:https://www.uilemiliaromagna.net/wp-content/uploads/2018/06/puntoradio.png
END:VEVENT
BEGIN:VEVENT
DTSTART;TZID=Europe/Rome:20181030T113000
DTEND;TZID=Europe/Rome:20181030T130000
DTSTAMP:20260421T200153
CREATED:20181029T113405Z
LAST-MODIFIED:20181029T113428Z
UID:4773-1540899000-1540904400@www.uilemiliaromagna.net
SUMMARY:Uil: presidio lavoratori Dow Agrosciences
DESCRIPTION:Martedì 30 ottobre 2018 \, alle 11.30\, presidio dei lavoratori della multinazionale Dow Agrosciences a rischio di licenziamento. Il presidio\, organizzato dalla Uil Emilia Romagna e Boplogna\, è in occasione della convocazione del tavolo di crisi in Città Metropolitana di Bologna previsto per le 12
URL:https://www.uilemiliaromagna.net/event/uil-presidio-lavoratori-dow-agrosciences/
LOCATION:Città Metropolitana Bologna
ATTACH;FMTTYPE=image/jpeg:https://www.uilemiliaromagna.net/wp-content/uploads/2018/05/palazzoMalvezzi1920x1080.jpg
END:VEVENT
BEGIN:VEVENT
DTSTART;TZID=Europe/Rome:20181026T100000
DTEND;TZID=Europe/Rome:20181026T110000
DTSTAMP:20260421T200153
CREATED:20181025T093715Z
LAST-MODIFIED:20181025T093742Z
UID:4735-1540548000-1540551600@www.uilemiliaromagna.net
SUMMARY:Uiltrasporti: 26 ottobre 2018\, sciopero e presidio lavoratori appalti FS
DESCRIPTION:In occasione dello sciopero nazionale\, il 26 ottobre 2018\, Filt-Cgil; Fit-Cisl; UilTrasporti; Ugl Af; Fast Emilia Romagna  organizzano in Emilia Romagna un presidio dei lavoratori degli appalti FS davanti alla Prefettura di Bologna\, in piazza Roosevelt\, dalle 10 alle 11.
URL:https://www.uilemiliaromagna.net/event/uiltrasporti-26-ottobre-2018-sciopero-e-presidio-lavoratori-appalti-fs/
LOCATION:Bologna
ATTACH;FMTTYPE=image/jpeg:https://www.uilemiliaromagna.net/wp-content/uploads/2018/10/pulizia-treni.jpg
END:VEVENT
BEGIN:VEVENT
DTSTART;TZID=Europe/Rome:20181020T080000
DTEND;TZID=Europe/Rome:20181020T170000
DTSTAMP:20260421T200153
CREATED:20181008T090814Z
LAST-MODIFIED:20181008T092935Z
UID:4598-1540022400-1540054800@www.uilemiliaromagna.net
SUMMARY:Bologna\, la Uil ER partecipa al Passamano per San Luca
DESCRIPTION:Sabato 20 ottobre 2018\, alle 9\, la Uil Emilia Romagna partecipa al Passamano per San Luca\, l’iniziativa organizzata nell’ambito della Festa internazionale della Storia.  Alle 10\, all’Arco del Meloncello\, il taglio del nastro darà il via al Passamano con il passaggio delle formelle che\, quest’anno\,  riproducono su legno varie forme di foglie che richiamano i valori di responsabilità e solidarietà cui si conforma una reale cittadinanza attiva.\nFormelle che andranno a formare un quadro policromo dedicato al “lungo cammino delle libertà e dei diritti”\, tema della XII edizione della “Festa internazionale della storia”. \nAd accogliere i partecipanti sul sagrato della Santuario\,  l’arcivescovo Matteo Maria Zuppi\, il rettore del Santuario\, monsignor Arturo Testi e il sindaco di Bologna\, Virginio Merola.   \nGiunto alla XVI edizione\, il Passamano rievoca  la lunga catena umana che il 17 ottobre 1677 permise di trasportare\, sul Colle della Guardia\, i materiali per la costruzione dello splendido portico e della basilica di San Luca. Oggi come allora bambini e adulti si passeranno di mano in mano le famose formelle prodotte nelle attività di studio\, di ricerca e di divulgazione svolte a scuola e nelle sedi museali\, archivistiche e universitarie. \n 
URL:https://www.uilemiliaromagna.net/event/la-uil-er-partecipa-al-passamano-per-san-luca/
END:VEVENT
BEGIN:VEVENT
DTSTART;TZID=Europe/Rome:20181018T163000
DTEND;TZID=Europe/Rome:20181018T183000
DTSTAMP:20260421T200153
CREATED:20180928T075823Z
LAST-MODIFIED:20181015T100250Z
UID:4525-1539880200-1539887400@www.uilemiliaromagna.net
SUMMARY:Uil: incontro su l'origine e la cultura del sindacato moderno
DESCRIPTION:Giovedì 18 Ottobre 2018\, alle 16.30\, nella sede della Uil Emilia Romagna (via Serena 2/2 – Bologna) si tiene il convegno su ‘Uil: l’origine e la cultura del sindacato moderno’. \nIl convegno è organizzato dalla Uil Emilia Romagna e dal Centro Pietro Nenni \nIntervengono: \n\nRoberto Campo\, presidente Istituto studi sindacali Italo Viglianesi\nRaffaele Vanni\, segretario generale UIL 1971-1976\nGiorgio Benvenuto\, presidente Fondazioni Nenni e Buozzi\nGiuliano Zignani\, segretario generale UIL Emilia Romagna
URL:https://www.uilemiliaromagna.net/event/uil-incontro-su-lorigine-e-la-cultura-del-sindacato-moderno/
ATTACH;FMTTYPE=image/jpeg:https://www.uilemiliaromagna.net/wp-content/uploads/2018/09/quarto-stato.jpg
END:VEVENT
BEGIN:VEVENT
DTSTART;VALUE=DATE:20181009
DTEND;VALUE=DATE:20181012
DTSTAMP:20260421T200153
CREATED:20180802T104536Z
LAST-MODIFIED:20180802T104536Z
UID:4088-1539043200-1539302399@www.uilemiliaromagna.net
SUMMARY:Uil ER: visita al Parlamento europeo\, sede di Bruxelles
DESCRIPTION:Dal 9 all’11 ottobre 2018\, la segreteria regionale della Uil Emilia Romagna e i segretari delle Cst del’Emilia Romagna saranno in visita alla sede di Bruxelles del Parlamento europeo.
URL:https://www.uilemiliaromagna.net/event/uil-er-visita-al-parlamento-europeo-sede-di-bruxelles/
ATTACH;FMTTYPE=image/jpeg:https://www.uilemiliaromagna.net/wp-content/uploads/2018/08/Parlamento-EU-Bruxelles.jpg
END:VEVENT
BEGIN:VEVENT
DTSTART;VALUE=DATE:20181002
DTEND;VALUE=DATE:20181005
DTSTAMP:20260421T200153
CREATED:20180802T100330Z
LAST-MODIFIED:20180802T100330Z
UID:4085-1538438400-1538697599@www.uilemiliaromagna.net
SUMMARY:UIl ER: al campo di concentramento di Auschwitz
DESCRIPTION:Dal 2 ottobre al 4 ottobre 2018 una delegazione della Uil Giovani\, accompagnata dalla Uil Emilia Romagna\, si recherà al campo di concentramento di Auschwitz nell’ambito del “Viaggio nella memoria”\, progetto realizzato da Irase Nazionale.
URL:https://www.uilemiliaromagna.net/event/uil-er-al-campo-di-concentramento-di-auschwitz/
ATTACH;FMTTYPE=image/jpeg:https://www.uilemiliaromagna.net/wp-content/uploads/2018/08/campoauschwitz.jpg
END:VEVENT
BEGIN:VEVENT
DTSTART;TZID=Europe/Rome:20180924T080000
DTEND;TZID=Europe/Rome:20180924T120000
DTSTAMP:20260421T200153
CREATED:20180920T083723Z
LAST-MODIFIED:20180920T083723Z
UID:4447-1537776000-1537790400@www.uilemiliaromagna.net
SUMMARY:Uiltrasporti: 24 settembre doppio presidio lavoratori appalti Fs
DESCRIPTION:Il 24 settembre\, in occasione dello sciopero nazionale\, Filt-Cgil; Fit -Cisl; Uiltrasporti; Ugl Af e Fast organizzano in Emilia Romagna un presidio dei lavoratori degli appalti FS nel piazzale antistante la stazione di Bologna C.le dalle  8.30 alle 10.30 e alla stazione di Rimini dalle 9 alle 11.
URL:https://www.uilemiliaromagna.net/event/uiltrasporti-24-settembre-doppio-presidio-lavoratori-appalti-fs/
ATTACH;FMTTYPE=image/jpeg:https://www.uilemiliaromagna.net/wp-content/uploads/2018/01/logo_UILTRASPORTI.jpg
END:VEVENT
BEGIN:VEVENT
DTSTART;TZID=Europe/Rome:20180923T100000
DTEND;TZID=Europe/Rome:20180923T130000
DTSTAMP:20260421T200153
CREATED:20180802T095445Z
LAST-MODIFIED:20180921T095926Z
UID:4080-1537696800-1537707600@www.uilemiliaromagna.net
SUMMARY:Uil ER di corsa alla Race for Cure
DESCRIPTION:Cinque km di corsa amatoriale e due km di passeggiata per tutti con partenza alle 10 del 23 settembre 2018 ai Giardini Margherita (piazzale Jacchia – Bologna): è la Race for Cure\, la più grande manifestazione per la lotta ai tumori del seno in Italia e nel mondo. Ad organizzarla l’associazione Susan G. Komen Italia che utilizza i fondi raccolti dal progetto per realizzare programmi di Prevenzione a sostegno delle donne. \nTre giorni\,  all’insegna della salute\, dello sport\, del benessere e della solidarità (venerdì 21 – domenica 23 settembre 2018) che vedrà la presenza della Uil che parteciperà\, con una delegazione\, alla tradizionale corsa di 5 km.
URL:https://www.uilemiliaromagna.net/event/uil-er-di-corsa-alla-race-for-cure/
ATTACH;FMTTYPE=image/jpeg:https://www.uilemiliaromagna.net/wp-content/uploads/2018/08/raceforcure.jpg
END:VEVENT
BEGIN:VEVENT
DTSTART;TZID=Europe/Rome:20180921T193000
DTEND;TZID=Europe/Rome:20180921T233000
DTSTAMP:20260421T200153
CREATED:20180921T101518Z
LAST-MODIFIED:20180921T101518Z
UID:4458-1537558200-1537572600@www.uilemiliaromagna.net
SUMMARY:Bologna abbraccia Borgo Panigale
DESCRIPTION:Oggi\, alle 19.30\, in via Marco Emilia Lepido 25/2\, Bologna abbraccerà gli uomini e le donne che quel 6 agosto\, in occasione del tragico incidente sulla A14\, accorsero e si misero al servizio di una comunità ferita. Con uno spirito di abnegazione che non ha uguali. La Uil Emilia Romagna sostiene l’inziativa
URL:https://www.uilemiliaromagna.net/event/bologna-abbraccia-borgo-panigale/
ATTACH;FMTTYPE=image/jpeg:https://www.uilemiliaromagna.net/wp-content/uploads/2018/04/logouil-MIO.jpg
END:VEVENT
BEGIN:VEVENT
DTSTART;TZID=Europe/Rome:20180918T083000
DTEND;TZID=Europe/Rome:20180918T090000
DTSTAMP:20260421T200153
CREATED:20180911T083622Z
LAST-MODIFIED:20180911T083707Z
UID:4293-1537259400-1537261200@www.uilemiliaromagna.net
SUMMARY:Zignani (Uil ER) a Punto Radio
DESCRIPTION:Il 18 settembre 2018 \, alle 8.30 il segretario generale Uil Emilia Romagna e Bologna\, Giuliano Zignani sarà ospite del programma “Una finestra su Bologna” in diretta su Punto Radio\, (fm 105 e canale 196 del digitale terrestre)
URL:https://www.uilemiliaromagna.net/event/zignani-uil-er-a-punto-radio/
ATTACH;FMTTYPE=image/jpeg:https://www.uilemiliaromagna.net/wp-content/uploads/2018/07/DSC_1681.jpg
END:VEVENT
BEGIN:VEVENT
DTSTART;TZID=Europe/Rome:20180914T093000
DTEND;TZID=Europe/Rome:20180916T120000
DTSTAMP:20260421T200153
CREATED:20180723T085607Z
LAST-MODIFIED:20180803T083301Z
UID:3975-1536917400-1537099200@www.uilemiliaromagna.net
SUMMARY:Uil Camp: tre giorni di formazione per under 35
DESCRIPTION:Dal 14 al 16 settembre\, a Cesenatico\, Uil e Uil Giovani organizzano una tre giorni di formazione per under 35 che vogliono impegnarsi nel mondo del sindacato per costruire la Uil del futuro \n 
URL:https://www.uilemiliaromagna.net/event/uil-campo-tre-giorni-di-formazione-per-under-35/
ATTACH;FMTTYPE=image/png:https://www.uilemiliaromagna.net/wp-content/uploads/2018/07/uil-camp-A.png
END:VEVENT
BEGIN:VEVENT
DTSTART;TZID=Europe/Rome:20180908T200000
DTEND;TZID=Europe/Rome:20180908T223000
DTSTAMP:20260421T200153
CREATED:20180823T095307Z
LAST-MODIFIED:20180907T100335Z
UID:4141-1536436800-1536445800@www.uilemiliaromagna.net
SUMMARY:Festa Unità (Ra): Barbagallo inteviene sul Mezzogiorno
DESCRIPTION:Sabato 8 settembre 2018\, alle 20\, alla Festa dell’Unità nazionale che si tiene a Ravenna\, il segretario generale Uil\, Carmelo Barbagallo interviene al dibattito su  “Cresce il Mezzogiorno\, cresce l’Italia”  (Sala Aldo Moro – Pala de Andrè – viale Europa 1\, Ravenna). \nIntervengono anche: i senatori Teresa Bellanova Claudio De Vincenti; il presidente della Regione Campania\, Vincenzo De Luca e il presidente di Confartigianato\, Giorgio Merletti.
URL:https://www.uilemiliaromagna.net/event/4141/
ATTACH;FMTTYPE=image/jpeg:https://www.uilemiliaromagna.net/wp-content/uploads/2018/08/DSC_3072.jpg
END:VEVENT
BEGIN:VEVENT
DTSTART;TZID=Europe/Rome:20180906T190000
DTEND;TZID=Europe/Rome:20180906T203000
DTSTAMP:20260421T200153
CREATED:20180823T094025Z
LAST-MODIFIED:20180824T082953Z
UID:4136-1536260400-1536265800@www.uilemiliaromagna.net
SUMMARY:Festa dell'Unità: Rinaldi (Uil ER) interviene convegno su sicurezza
DESCRIPTION:Giovedì 6 settembre\, alle 19\,  alla Festa dell’Unità di Bologna\, si tiene il dibattito su “La sicurezza nei nostri territori” cui interviene il segretario organizzativo della Uil Emilia Romagna e Bologna\, Roberto Rinaldi ( Sala Aldo Moro – Fiera di Bologna – Ingresso viale Aldo Moro). \nIntrodotti da Roberto Giorgi Ronchi\, intervengono\, tra gli altri\, l’assessore alla Sicurezza del Comune di Bologna\, Alberto Aitini; l’assessore alla Casa del Comune di Bologna\, Virginia Gieri; il consigliere comunale e capogruppo in Città metropolitana di Bologna con delega alla sicurezza\, Raffaele Persiano; il sindaco di Molinella\, Dario Mantovani; ilsindaco di Granarolo dell’Emilia\, Daniela Lo Conte; il segretario provinciale del sindacato di polizia Silp Cgil\, Pierluigi Leri e il segretario generale del Siulp\, Roberto Butelli. \n 
URL:https://www.uilemiliaromagna.net/event/festa-dellunita-rinaldi-uil-er-interviene-convegno-su-sicurezza/
ATTACH;FMTTYPE=image/jpeg:https://www.uilemiliaromagna.net/wp-content/uploads/2018/08/DSC_4806.jpg
END:VEVENT
BEGIN:VEVENT
DTSTART;TZID=Europe/Rome:20180903T190000
DTEND;TZID=Europe/Rome:20180903T203000
DTSTAMP:20260421T200153
CREATED:20180823T093524Z
LAST-MODIFIED:20180824T082959Z
UID:4131-1536001200-1536006600@www.uilemiliaromagna.net
SUMMARY:Festa Unità Bo: Massari (Uil ER) partecipa a dibattito su emergenza abitativa
DESCRIPTION:Lunedì 3 settembre\, alle 19\, alle Festa dell’Unità di Bologna\, si tiene il dibattito su “Emergenza abitativa nel territorio metropolitano” cui partecipa Carmelo  Massari della Uil EMilia Romagna e Bologna (Sala Aldo Moro – Fiera di Bologna – Ingresso viale Aldo Moro). \nIntrodotti da  Silvia Passerini\, intervengono\, tra gli altri\, l’assessore alla Casa del Comune di Bologna\, Virginia Gieri; ils indaco di Ozzano dell’Emilia\, Luca Lelli e il segretario provincia Sunia\, Mauro Colombarini. \n 
URL:https://www.uilemiliaromagna.net/event/festa-unita-bo-massari-uil-er-partecipa-a-dibattito-su-emergenza-abitativa/
ATTACH;FMTTYPE=image/jpeg:https://www.uilemiliaromagna.net/wp-content/uploads/2018/08/bologna.jpg
END:VEVENT
BEGIN:VEVENT
DTSTART;VALUE=DATE:20180830
DTEND;VALUE=DATE:20180831
DTSTAMP:20260421T200153
CREATED:20180802T093742Z
LAST-MODIFIED:20180824T080818Z
UID:4077-1535587200-1535673599@www.uilemiliaromagna.net
SUMMARY:Zignani (Uil ER) alla Festa dell'Unità di Bologna
DESCRIPTION:Giovedì 30 agosto 2018 \, alle 21 nella sala dibattiti centrale della Festa dell’Unità (Fiera di Bologna – ingresso viale Aldo Moro)\, si tiene il dibattito su ‘Lavoro\, economia e sviluppo della Città metropolitana di Bologna’ cui partecipa il segretario generale della Uil Emilia Romagna e Bologna\, Giuliano Zignani. \nIntervistati dal giornalista Paolo Rosato\, saranno presenti anche gli onorevoli Carla Cantone e Gianluca Benamati\, l’assessore alle Attività Produttive del Comune di Bologna\, Marco Lombardo e i segretari della Cgil e della Cisl di Bologna\, Maurizio Lunghi e Danilo Francesconi.
URL:https://www.uilemiliaromagna.net/event/festa-dellunita-lo-stand-della-uil/
ATTACH;FMTTYPE=image/jpeg:https://www.uilemiliaromagna.net/wp-content/uploads/2018/06/giuliano_zignani.jpg
END:VEVENT
BEGIN:VEVENT
DTSTART;TZID=Europe/Rome:20180823T200000
DTEND;TZID=Europe/Rome:20180910T230000
DTSTAMP:20260421T200153
CREATED:20180823T081308Z
LAST-MODIFIED:20180904T081932Z
UID:4128-1535054400-1536620400@www.uilemiliaromagna.net
SUMMARY:Festa Unità - Bo: stand Uil
DESCRIPTION:Dal 23 agosto al 10 settembre 2018\, la Uil sarà presente\, con un suo stand\, alla Festa dell’Unità di Bologna che si tiene nei padiglioni della fiera (Ingresso viale Aldo Moro – Bologna). \n \n 
URL:https://www.uilemiliaromagna.net/event/festa-unita-bo-stand-uil/
ATTACH;FMTTYPE=image/jpeg:https://www.uilemiliaromagna.net/wp-content/uploads/2018/08/DSC_3501.jpg
END:VEVENT
BEGIN:VEVENT
DTSTART;TZID=Europe/Rome:20180727T100000
DTEND;TZID=Europe/Rome:20180727T120000
DTSTAMP:20260421T200153
CREATED:20180726T083550Z
LAST-MODIFIED:20180726T083550Z
UID:4020-1532685600-1532692800@www.uilemiliaromagna.net
SUMMARY:Uil Fpl: 27 luglio\, presidio sede Aiop ER
DESCRIPTION:A sostegno del rinnovo del Ccnl\, Fp Cgil\, Cisl Fp\, e UIL FPL ER hanno organizzato un presidio per venerdì 27 luglio dalle ore 10 alle ore 12 di fronte alla sede Aiop in via Barberia 18 a Bologna. \nLa sanità privata accreditata rappresenta una realtà importante per i cittadini dell’Emilia Romagna e come tale gli oltre 7.500 dipendenti\, tra infermieri\, tecnici sanitari\, operatori socio sanitari ecc\, hanno diritto al rinnovo del loro contratto nazionale di lavoro\, scaduto dal 2007\, da ben oltre 10 anni. \n 
URL:https://www.uilemiliaromagna.net/event/uil-fpl-27-luglio-presidio-sede-aiop-er/
LOCATION:sede Aiop ER
ATTACH;FMTTYPE=image/jpeg:https://www.uilemiliaromagna.net/wp-content/uploads/2018/07/sanità-privata.jpg
END:VEVENT
BEGIN:VEVENT
DTSTART;TZID=Europe/Rome:20180725T123000
DTEND;TZID=Europe/Rome:20180725T133000
DTSTAMP:20260421T200153
CREATED:20180720T095841Z
LAST-MODIFIED:20180720T100410Z
UID:3958-1532521800-1532525400@www.uilemiliaromagna.net
SUMMARY:Bologna\, 25 luglio: pastasciutta antifascista
DESCRIPTION:Mercoledì 25 Luglio 2018\, nel cortile d’Onore di Palazzo D’Accursio (piazza Maggiore\, 6 – Bologna)\, alle 12.30 si tiene la Pastasciutta antifascista per festeggiareil 75esimo anniversario della caduta del fascismo.
URL:https://www.uilemiliaromagna.net/event/bologna-25-luglio-pastasciutta-antifascista/
ATTACH;FMTTYPE=image/png:https://www.uilemiliaromagna.net/wp-content/uploads/2018/07/pastasciutta.png
END:VEVENT
BEGIN:VEVENT
DTSTART;TZID=Europe/Rome:20180720T090000
DTEND;TZID=Europe/Rome:20180720T100000
DTSTAMP:20260421T200153
CREATED:20180719T084457Z
LAST-MODIFIED:20180720T095536Z
UID:3953-1532077200-1532080800@www.uilemiliaromagna.net
SUMMARY:UilTrasporti: 20 luglio\, sciopero e presidio
DESCRIPTION:Sciopero nazionale\, venerdì 20 luglio 2018\, nel settore degli appalti ferroviari e a livello regionale dell’appalto pulizia treni Emilia Romagna. A proclamarlo\, Filt-Cgil; Fit-Cisl; Uiltrasporti; Ugl Af; Orsa; Fasi che organizzano un presidio dei lavoratori degli Appalti FS presso il piazzale antistante la Stazione di Bologna C.le dalle ore 9 alle ore 10. \n 
URL:https://www.uilemiliaromagna.net/event/uiltraporti-20-luglio-sciopero-e-presidio/
ATTACH;FMTTYPE=image/jpeg:https://www.uilemiliaromagna.net/wp-content/uploads/2018/07/treno-fs.jpg
END:VEVENT
BEGIN:VEVENT
DTSTART;TZID=Europe/Rome:20180711T100000
DTEND;TZID=Europe/Rome:20180711T130000
DTSTAMP:20260421T200153
CREATED:20180628T091512Z
LAST-MODIFIED:20180628T091512Z
UID:3635-1531303200-1531314000@www.uilemiliaromagna.net
SUMMARY:Seminario: la storia della Uil
DESCRIPTION:Mercoledì 11 Luglio 2018\, alle 10\, nella sede della Uil Emilia Romagna (via Serena 2/2)\, seminario su ‘La storia della Uil’ con il segretario generale Antonio Foccillo
URL:https://www.uilemiliaromagna.net/event/seminario-la-storia-della-uil/
ATTACH;FMTTYPE=image/jpeg:https://www.uilemiliaromagna.net/wp-content/uploads/2018/03/LAvoro_Italiano_10_Marzo_1950.jpg
END:VEVENT
BEGIN:VEVENT
DTSTART;TZID=Europe/Rome:20180627T083000
DTEND;TZID=Europe/Rome:20180627T093000
DTSTAMP:20260421T200153
CREATED:20180626T082025Z
LAST-MODIFIED:20180627T082305Z
UID:3621-1530088200-1530091800@www.uilemiliaromagna.net
SUMMARY:Zignani a Punto Radio
DESCRIPTION:Mercoledì 27 giugno\, alle 8.30\, il segretario generale Uil ER e Bo\, Giuliano Zignani sarà in diretta su Punto Radio (105 FM)
URL:https://www.uilemiliaromagna.net/event/zignani-a-punto-radio/
ATTACH;FMTTYPE=image/png:https://www.uilemiliaromagna.net/wp-content/uploads/2018/06/puntoradio.png
END:VEVENT
BEGIN:VEVENT
DTSTART;TZID=Europe/Rome:20180613T083000
DTEND;TZID=Europe/Rome:20180613T093000
DTSTAMP:20260421T200153
CREATED:20180606T091144Z
LAST-MODIFIED:20180606T091144Z
UID:3361-1528878600-1528882200@www.uilemiliaromagna.net
SUMMARY:Punto Radio\, rasegna stampa con la Uil
DESCRIPTION:Mercoledì 13 Giugno 2018\, dalle 8.30 alle 9.30\, la Uil sarà on air a Punto Radio (canale 196 DT e 105 Fm) per raccontare Bologna partendo dalla lettura dei quotidiani.
URL:https://www.uilemiliaromagna.net/event/punto-radio-rasegna-stampa-con-la-uil/
ATTACH;FMTTYPE=image/png:https://www.uilemiliaromagna.net/wp-content/uploads/2018/06/puntoradio.png
END:VEVENT
BEGIN:VEVENT
DTSTART;TZID=Europe/Rome:20180611T183000
DTEND;TZID=Europe/Rome:20180611T200000
DTSTAMP:20260421T200153
CREATED:20180604T164529Z
LAST-MODIFIED:20180604T164529Z
UID:3331-1528741800-1528747200@www.uilemiliaromagna.net
SUMMARY:La Uil incontra assessore al Bilancio di Bologna
DESCRIPTION:Lunedì 11 giugno 2018\,  alle 18.30\, nella sede della Uil\, si terrà un incontro con l’assessore comunale al Bilancio\, Davide Conte che ci racconterà la Bologna di oggi e quella di domani attraverso gli studi dell’Ufficio statistica del Comune di Bologna
URL:https://www.uilemiliaromagna.net/event/la-uil-incontra-assessore-al-bilancio-di-bologna/
LOCATION:Uil
ATTACH;FMTTYPE=image/jpeg:https://www.uilemiliaromagna.net/wp-content/uploads/2018/06/DSC_4607.jpg
END:VEVENT
BEGIN:VEVENT
DTSTART;TZID=Europe/Rome:20180611T143000
DTEND;TZID=Europe/Rome:20180611T153000
DTSTAMP:20260421T200153
CREATED:20180611T082155Z
LAST-MODIFIED:20180611T082155Z
UID:3430-1528727400-1528731000@www.uilemiliaromagna.net
SUMMARY:Uil ER: incontro con autore 'Il mondo al tempo dei quanti'
DESCRIPTION:Lunedì 11\, alle 14.30\, alla Camera del Lavoro Metropolitana di Bologna (via Marconi\, 69 – Bologna)\, incontro con Mario Agostinelli autore\, con Debora Rizzuto\, di ‘Il mondo al tempo dei quanti’. \nIntervengono: \n\nMarino Mazzini Segreteria FIM Cisl Area Metropolitana Bolognese\nCarmelo Massari UIL Emilia Romagna e Bologna\nMichele Bulgarelli Segretario Generale FIOM Bologna\nRoberto Guarinoni Segretario Generale Filctem Bologna\n\nConclude:\nMaurizio Lunghi – Segretario generale della CGIL – Camera del Lavoro Metropolitana di Bologna \n 
URL:https://www.uilemiliaromagna.net/event/uil-er-incontro-con-autore-il-mondo-al-tempo-dei-quanti/
LOCATION:Cgil Bologna
ATTACH;FMTTYPE=image/jpeg:https://www.uilemiliaromagna.net/wp-content/uploads/2018/06/quanti.jpg
END:VEVENT
END:VCALENDAR