BEGIN:VCALENDAR
VERSION:2.0
PRODID:-//UIL Emilia Romagna - ECPv6.10.2//NONSGML v1.0//EN
CALSCALE:GREGORIAN
METHOD:PUBLISH
X-WR-CALNAME:UIL Emilia Romagna
X-ORIGINAL-URL:https://www.uilemiliaromagna.net
X-WR-CALDESC:Eventi per UIL Emilia Romagna
REFRESH-INTERVAL;VALUE=DURATION:PT1H
X-Robots-Tag:noindex
X-PUBLISHED-TTL:PT1H
BEGIN:VTIMEZONE
TZID:Europe/Rome
BEGIN:DAYLIGHT
TZOFFSETFROM:+0100
TZOFFSETTO:+0200
TZNAME:CEST
DTSTART:20180325T010000
END:DAYLIGHT
BEGIN:STANDARD
TZOFFSETFROM:+0200
TZOFFSETTO:+0100
TZNAME:CET
DTSTART:20181028T010000
END:STANDARD
END:VTIMEZONE
BEGIN:VEVENT
DTSTART;TZID=Europe/Rome:20181123T090000
DTEND;TZID=Europe/Rome:20181123T130000
DTSTAMP:20260423T192155
CREATED:20181114T101300Z
LAST-MODIFIED:20181114T101300Z
UID:4882-1542963600-1542978000@www.uilemiliaromagna.net
SUMMARY:Attivo Cgil-Cisl-Uil di Imola\, venerdì 23 novembre 2018\, alle 9 - Imola
DESCRIPTION:Venerdì 23 novembre 2018\, alle 9\, a Imola  (salone 2° piano – via Emilia\, 4 – Imola)\, si tiene l’attivo unitario Cgil-Cisl-Uil Bologna per illustrare il documento con le proposte\, a firma Cgil-Cisl-Uil\, di modifica della legge di bilancio 2019 (Scarica qui il documento riassuntivo). \nPROGRAMMA:  \nApre i lavori: Antonella Raspadori\, segreteria Cgil Emilia Romagna\nInterventi\nConclusioni:  Danilo Francesconi\, segretario Cisl Area Metropolitana\nCoordina: Giuseppe Rago\, coordinatore Uil di Imola
URL:https://www.uilemiliaromagna.net/event/attivo-cgil-cisl-uil-di-imola-venerdi-23-novembre-2018-alle-9-imola/
ATTACH;FMTTYPE=image/png:https://www.uilemiliaromagna.net/wp-content/uploads/2018/11/rac.png
END:VEVENT
END:VCALENDAR