BEGIN:VCALENDAR
VERSION:2.0
PRODID:-//UIL Emilia Romagna - ECPv6.10.2//NONSGML v1.0//EN
CALSCALE:GREGORIAN
METHOD:PUBLISH
X-WR-CALNAME:UIL Emilia Romagna
X-ORIGINAL-URL:https://www.uilemiliaromagna.net
X-WR-CALDESC:Eventi per UIL Emilia Romagna
REFRESH-INTERVAL;VALUE=DURATION:PT1H
X-Robots-Tag:noindex
X-PUBLISHED-TTL:PT1H
BEGIN:VTIMEZONE
TZID:Europe/Rome
BEGIN:DAYLIGHT
TZOFFSETFROM:+0100
TZOFFSETTO:+0200
TZNAME:CEST
DTSTART:20190331T010000
END:DAYLIGHT
BEGIN:STANDARD
TZOFFSETFROM:+0200
TZOFFSETTO:+0100
TZNAME:CET
DTSTART:20191027T010000
END:STANDARD
END:VTIMEZONE
BEGIN:VEVENT
DTSTART;TZID=Europe/Rome:20190108T093000
DTEND;TZID=Europe/Rome:20190108T100000
DTSTAMP:20260423T161804
CREATED:20190107T091734Z
LAST-MODIFIED:20190107T091734Z
UID:5301-1546939800-1546941600@www.uilemiliaromagna.net
SUMMARY:Uil ER: in onda a Ciao Radio martedì 8 gennaio 2019
DESCRIPTION:Martedì 8 gennaio 2019\, alle 9.30\, il segretario organizzativo della Uil Emilia Romagna e Bologna\, Roberto Rinaldi sarà in diretta a “Sindacando”\, programma radiofonico di Ciao Radio condotto da Ilaria Chiara\, per parlare di attualità (93\,250 Fm) \n 
URL:https://www.uilemiliaromagna.net/event/uil-er-in-onda-a-ciao-radio-martedi-8-gennaio-2019/
ATTACH;FMTTYPE=image/jpeg:https://www.uilemiliaromagna.net/wp-content/uploads/2019/01/ciao-radio.jpg
END:VEVENT
END:VCALENDAR