BEGIN:VCALENDAR
VERSION:2.0
PRODID:-//UIL Emilia Romagna - ECPv6.10.2//NONSGML v1.0//EN
CALSCALE:GREGORIAN
METHOD:PUBLISH
X-ORIGINAL-URL:https://www.uilemiliaromagna.net
X-WR-CALDESC:Eventi per UIL Emilia Romagna
REFRESH-INTERVAL;VALUE=DURATION:PT1H
X-Robots-Tag:noindex
X-PUBLISHED-TTL:PT1H
BEGIN:VTIMEZONE
TZID:Europe/Rome
BEGIN:DAYLIGHT
TZOFFSETFROM:+0100
TZOFFSETTO:+0200
TZNAME:CEST
DTSTART:20190331T010000
END:DAYLIGHT
BEGIN:STANDARD
TZOFFSETFROM:+0200
TZOFFSETTO:+0100
TZNAME:CET
DTSTART:20191027T010000
END:STANDARD
END:VTIMEZONE
BEGIN:VEVENT
DTSTART;TZID=Europe/Rome:20191129T093000
DTEND;TZID=Europe/Rome:20191129T140000
DTSTAMP:20260424T130224
CREATED:20191126T092015Z
LAST-MODIFIED:20191126T092122Z
UID:8252-1575019800-1575036000@www.uilemiliaromagna.net
SUMMARY:Uil Scuola (ER): convegno su Agio e disagio nella scuola\, 29 novembre
DESCRIPTION:
URL:https://www.uilemiliaromagna.net/event/uil-scuola-er-convegno-su-agio-e-disagio-nella-scuola-29-novembre/
ATTACH;FMTTYPE=image/jpeg:https://www.uilemiliaromagna.net/wp-content/uploads/2019/11/scuola-A.jpg
END:VEVENT
END:VCALENDAR