BEGIN:VCALENDAR
VERSION:2.0
PRODID:-//UIL Emilia Romagna - ECPv6.10.2//NONSGML v1.0//EN
CALSCALE:GREGORIAN
METHOD:PUBLISH
X-ORIGINAL-URL:https://www.uilemiliaromagna.net
X-WR-CALDESC:Eventi per UIL Emilia Romagna
REFRESH-INTERVAL;VALUE=DURATION:PT1H
X-Robots-Tag:noindex
X-PUBLISHED-TTL:PT1H
BEGIN:VTIMEZONE
TZID:Europe/Rome
BEGIN:DAYLIGHT
TZOFFSETFROM:+0100
TZOFFSETTO:+0200
TZNAME:CEST
DTSTART:20230326T010000
END:DAYLIGHT
BEGIN:STANDARD
TZOFFSETFROM:+0200
TZOFFSETTO:+0100
TZNAME:CET
DTSTART:20231029T010000
END:STANDARD
END:VTIMEZONE
BEGIN:VEVENT
DTSTART;TZID=Europe/Rome:20230223T143000
DTEND;TZID=Europe/Rome:20230223T180000
DTSTAMP:20260421T232144
CREATED:20230203T085306Z
LAST-MODIFIED:20230203T085306Z
UID:16181-1677162600-1677175200@www.uilemiliaromagna.net
SUMMARY:Uil Ravenna: convegno sulla scuola
DESCRIPTION:
URL:https://www.uilemiliaromagna.net/event/uil-ravenna-convegno-sulla-scuola/
ATTACH;FMTTYPE=image/jpeg:https://www.uilemiliaromagna.net/wp-content/uploads/2023/02/IMG-20230202-WA0008.jpg
END:VEVENT
END:VCALENDAR