BEGIN:VCALENDAR
VERSION:2.0
PRODID:-//UIL Emilia Romagna - ECPv6.10.2//NONSGML v1.0//EN
CALSCALE:GREGORIAN
METHOD:PUBLISH
X-ORIGINAL-URL:https://www.uilemiliaromagna.net
X-WR-CALDESC:Eventi per UIL Emilia Romagna
REFRESH-INTERVAL;VALUE=DURATION:PT1H
X-Robots-Tag:noindex
X-PUBLISHED-TTL:PT1H
BEGIN:VTIMEZONE
TZID:Europe/Rome
BEGIN:DAYLIGHT
TZOFFSETFROM:+0100
TZOFFSETTO:+0200
TZNAME:CEST
DTSTART:20180325T010000
END:DAYLIGHT
BEGIN:STANDARD
TZOFFSETFROM:+0200
TZOFFSETTO:+0100
TZNAME:CET
DTSTART:20181028T010000
END:STANDARD
BEGIN:DAYLIGHT
TZOFFSETFROM:+0100
TZOFFSETTO:+0200
TZNAME:CEST
DTSTART:20190331T010000
END:DAYLIGHT
BEGIN:STANDARD
TZOFFSETFROM:+0200
TZOFFSETTO:+0100
TZNAME:CET
DTSTART:20191027T010000
END:STANDARD
END:VTIMEZONE
BEGIN:VEVENT
DTSTART;TZID=Europe/Rome:20190912T100000
DTEND;TZID=Europe/Rome:20190915T120000
DTSTAMP:20260421T110819
CREATED:20190819T084150Z
LAST-MODIFIED:20190819T084603Z
UID:7263-1568282400-1568548800@www.uilemiliaromagna.net
SUMMARY:Uil Camp: Cesenatico\, 12-15 settembre 2019
DESCRIPTION:  \n  \n  \n  \n  \n  \n  \n  \n  \n  \n  \n  \n  \n  \n  \n  \n  \n  \n  \n  \n 
URL:https://www.uilemiliaromagna.net/event/uil-camp-cesenatico-12-15-settembre-2019/
ATTACH;FMTTYPE=image/jpeg:https://www.uilemiliaromagna.net/wp-content/uploads/2019/08/UIL-C.jpg
END:VEVENT
BEGIN:VEVENT
DTSTART;TZID=Europe/Rome:20181018T163000
DTEND;TZID=Europe/Rome:20181018T183000
DTSTAMP:20260421T110819
CREATED:20180928T075823Z
LAST-MODIFIED:20181015T100250Z
UID:4525-1539880200-1539887400@www.uilemiliaromagna.net
SUMMARY:Uil: incontro su l'origine e la cultura del sindacato moderno
DESCRIPTION:Giovedì 18 Ottobre 2018\, alle 16.30\, nella sede della Uil Emilia Romagna (via Serena 2/2 – Bologna) si tiene il convegno su ‘Uil: l’origine e la cultura del sindacato moderno’. \nIl convegno è organizzato dalla Uil Emilia Romagna e dal Centro Pietro Nenni \nIntervengono: \n\nRoberto Campo\, presidente Istituto studi sindacali Italo Viglianesi\nRaffaele Vanni\, segretario generale UIL 1971-1976\nGiorgio Benvenuto\, presidente Fondazioni Nenni e Buozzi\nGiuliano Zignani\, segretario generale UIL Emilia Romagna
URL:https://www.uilemiliaromagna.net/event/uil-incontro-su-lorigine-e-la-cultura-del-sindacato-moderno/
ATTACH;FMTTYPE=image/jpeg:https://www.uilemiliaromagna.net/wp-content/uploads/2018/09/quarto-stato.jpg
END:VEVENT
END:VCALENDAR