BEGIN:VCALENDAR
VERSION:2.0
PRODID:-//UIL Emilia Romagna - ECPv6.10.2//NONSGML v1.0//EN
CALSCALE:GREGORIAN
METHOD:PUBLISH
X-ORIGINAL-URL:https://www.uilemiliaromagna.net
X-WR-CALDESC:Eventi per UIL Emilia Romagna
REFRESH-INTERVAL;VALUE=DURATION:PT1H
X-Robots-Tag:noindex
X-PUBLISHED-TTL:PT1H
BEGIN:VTIMEZONE
TZID:Europe/Rome
BEGIN:DAYLIGHT
TZOFFSETFROM:+0100
TZOFFSETTO:+0200
TZNAME:CEST
DTSTART:20180325T010000
END:DAYLIGHT
BEGIN:STANDARD
TZOFFSETFROM:+0200
TZOFFSETTO:+0100
TZNAME:CET
DTSTART:20181028T010000
END:STANDARD
END:VTIMEZONE
BEGIN:VEVENT
DTSTART;TZID=Europe/Rome:20180530T183000
DTEND;TZID=Europe/Rome:20180530T200000
DTSTAMP:20260422T082301
CREATED:20180525T105345Z
LAST-MODIFIED:20180525T105414Z
UID:3099-1527705000-1527710400@www.uilemiliaromagna.net
SUMMARY:Convegno con Zignani su la transizione ambientale per una diversa qualità del lavoro
DESCRIPTION:
URL:https://www.uilemiliaromagna.net/event/convegno-la-transizione-ambientale-puo-portare-ad-una-diversa-qualita-del-lavoro/
LOCATION:piazza Verdi\, Bologna
END:VEVENT
END:VCALENDAR