BEGIN:VCALENDAR
VERSION:2.0
PRODID:-//UIL Emilia Romagna - ECPv6.10.2//NONSGML v1.0//EN
CALSCALE:GREGORIAN
METHOD:PUBLISH
X-WR-CALNAME:UIL Emilia Romagna
X-ORIGINAL-URL:https://www.uilemiliaromagna.net
X-WR-CALDESC:Eventi per UIL Emilia Romagna
REFRESH-INTERVAL;VALUE=DURATION:PT1H
X-Robots-Tag:noindex
X-PUBLISHED-TTL:PT1H
BEGIN:VTIMEZONE
TZID:Europe/Rome
BEGIN:DAYLIGHT
TZOFFSETFROM:+0100
TZOFFSETTO:+0200
TZNAME:CEST
DTSTART:20180325T010000
END:DAYLIGHT
BEGIN:STANDARD
TZOFFSETFROM:+0200
TZOFFSETTO:+0100
TZNAME:CET
DTSTART:20181028T010000
END:STANDARD
END:VTIMEZONE
BEGIN:VEVENT
DTSTART;TZID=Europe/Rome:20180509T080000
DTEND;TZID=Europe/Rome:20180510T140000
DTSTAMP:20260422T075237
CREATED:20180420T073054Z
LAST-MODIFIED:20180420T073227Z
UID:2464-1525852800-1525960800@www.uilemiliaromagna.net
SUMMARY:Bologna\, Uil in Tour: giovani\, scuola e università
DESCRIPTION:
URL:https://www.uilemiliaromagna.net/event/bologna-uil-in-tour-giovani-scuola-e-universita/
LOCATION:Bologna
ATTACH;FMTTYPE=image/jpeg:https://www.uilemiliaromagna.net/wp-content/uploads/2018/04/nuovo-logo-uil-giovani.jpg
END:VEVENT
END:VCALENDAR